BEGIN:VCALENDAR
VERSION:2.0
PRODID:icalendar-ruby
CALSCALE:GREGORIAN
METHOD:PUBLISH
BEGIN:VEVENT
DTSTAMP:20260425T124451Z
UID:11-434004@lindavistaumc.org
DTSTART:20261029T203000Z
DTEND:20261029T213000Z
CLASS:PUBLIC
CREATED:20260425T053428
DESCRIPTION:Community Fitness Classes\n\nLinda Vista U.M.C. is excited to a
 nnounce FREE community fitness classes!\nWe have partnered with San Diego
 ’s Aging and Independence Agency-Healthier Living-Feeling Fit Club and a
 re offering this fun program on our campus beginning August 26.\nAll are 
 invited. All are welcomed. All means all.\n\nTuesdays 1:30-2:30 p.m.\nThur
 sdays 1:30-2:30 p.m.\n
LAST-MODIFIED:20260425T053428
LOCATION:
SUMMARY:Community Fitness Classes
URL;VALUE=URI:https://lindavistaumc.org/events/community-fitness-classes--1
 0/2026-10-29
ATTACH;FILENAME=feeling-fit-130-tuesdays-and-thursdays.png;FMTTYPE=image/pn
 g:https://dq5pwpg1q8ru0.cloudfront.net/2026/03/31/20/49/34/bb294c5d-2b58-4
 8c6-8cd8-03470da56561/feeling-fit-130-tuesdays-and-thursdays.png
END:VEVENT
END:VCALENDAR
