BEGIN:VCALENDAR
VERSION:2.0
PRODID:icalendar-ruby
CALSCALE:GREGORIAN
METHOD:PUBLISH
BEGIN:VEVENT
DTSTAMP:20260423T100409Z
UID:8-430456@lindavistaumc.org
DTSTART:20261011T153000Z
DTEND:20261011T163000Z
CLASS:PUBLIC
CREATED:20260422T201726
DESCRIPTION:Vietnamese Holy Worship with Pastor Mary Dang
LAST-MODIFIED:20260422T201726
LOCATION:
SUMMARY:Worship\, Vietnamese
URL;VALUE=URI:https://lindavistaumc.org/events/worship-vietnamese/2026-10-1
 1
END:VEVENT
END:VCALENDAR
