BEGIN:VCALENDAR
VERSION:2.0
PRODID:icalendar-ruby
CALSCALE:GREGORIAN
METHOD:PUBLISH
BEGIN:VEVENT
DTSTAMP:20260425T110653Z
UID:8-433702@lindavistaumc.org
DTSTART:20261101T163000Z
DTEND:20261101T173000Z
CLASS:PUBLIC
CREATED:20260424T195103
DESCRIPTION:Vietnamese Holy Worship with Pastor Mary Dang
LAST-MODIFIED:20260424T195103
LOCATION:
SUMMARY:Worship\, Vietnamese
URL;VALUE=URI:https://lindavistaumc.org/events/worship-vietnamese/2026-11-0
 1
END:VEVENT
END:VCALENDAR
